Package: TreeSummarizedExperiment Version: 2.16.1 Command: /home/biocbuild/bbs-3.21-bioc/R/bin/R CMD INSTALL TreeSummarizedExperiment StartedAt: 2025-10-05 15:23:26 -0400 (Sun, 05 Oct 2025) EndedAt: 2025-10-05 15:23:58 -0400 (Sun, 05 Oct 2025) EllapsedTime: 32.5 seconds RetCode: 0 Status: OK