Back to Multiple platform build/check report for BioC 3.21:   simplified   long
ABCDEFGHIJKLMNOPQRS[T]UVWXYZ

This page was generated on 2025-05-15 11:39 -0400 (Thu, 15 May 2025).

HostnameOSArch (*)R versionInstalled pkgs
nebbiolo1Linux (Ubuntu 24.04.1 LTS)x86_644.5.0 RC (2025-04-04 r88126) -- "How About a Twenty-Six" 4833
palomino7Windows Server 2022 Datacenterx644.5.0 RC (2025-04-04 r88126 ucrt) -- "How About a Twenty-Six" 4575
merida1macOS 12.7.5 Montereyx86_644.5.0 RC (2025-04-04 r88126) -- "How About a Twenty-Six" 4600
kjohnson1macOS 13.6.6 Venturaarm644.5.0 RC (2025-04-04 r88129) -- "How About a Twenty-Six" 4554
kunpeng2Linux (openEuler 24.03 LTS)aarch64R Under development (unstable) (2025-02-19 r87757) -- "Unsuffered Consequences" 4571
Click on any hostname to see more info about the system (e.g. compilers)      (*) as reported by 'uname -p', except on Windows and Mac OS X

All results for package TreeSummarizedExperiment


To the developers/maintainers of the TreeSummarizedExperiment package:
- Allow up to 24 hours (and sometimes 48 hours) for your latest push to git@git.bioconductor.org:packages/TreeSummarizedExperiment.git to reflect on this report. See Troubleshooting Build Report for more information.
- Use the following Renviron settings to reproduce errors and warnings.
- If 'R CMD check' started to fail recently on the Linux builder(s) over a missing dependency, add the missing dependency to 'Suggests:' in your DESCRIPTION file. See Renviron.bioc for more information.

raw results

Package 2238/2341HostnameOS / ArchINSTALLBUILDCHECKBUILD BIN
TreeSummarizedExperiment 2.16.1  (landing page)
Ruizhu Huang
Snapshot Date: 2025-05-12 13:40 -0400 (Mon, 12 May 2025)
git_url: https://git.bioconductor.org/packages/TreeSummarizedExperiment
git_branch: RELEASE_3_21
git_last_commit: f3efa55
git_last_commit_date: 2025-05-08 12:30:51 -0400 (Thu, 08 May 2025)
nebbiolo1Linux (Ubuntu 24.04.1 LTS) / x86_64  OK    OK    OK  UNNEEDED, same version is already published
palomino7Windows Server 2022 Datacenter / x64  OK    OK    OK    OK  UNNEEDED, same version is already published
merida1macOS 12.7.5 Monterey / x86_64  OK    OK    OK    OK  UNNEEDED, same version is already published
kjohnson1macOS 13.6.6 Ventura / arm64  OK    OK    OK    OK  UNNEEDED, same version is already published
kunpeng2Linux (openEuler 24.03 LTS) / aarch64  OK    OK    OK  



Results for Bioconductor software packages that depend directly on package TreeSummarizedExperiment

QUICK STATSOS / ArchINSTALLBUILDCHECKBUILD BIN
nebbiolo1Linux (Ubuntu 24.04.1 LTS) / x86_64
0014
0113
00112
palomino7Windows Server 2022 Datacenter / x64
0014
0212
10110
0012
merida1macOS 12.7.5 Monterey / x86_64
0014
1112
10110
0012
kjohnson1macOS 13.6.6 Ventura / arm64
0014
0113
10111
0013
kunpeng2Linux (openEuler 24.03 LTS) / aarch64
0014
0113
2119
Package 1/14HostnameOS / ArchINSTALLBUILDCHECKBUILD BIN
benchdamic 1.14.2  (landing page)
Matteo Calgaro
git_last_commit: 9ea0f3a
git_last_commit_date: 2025-04-24 10:09:31 -0400
nebbiolo1Linux (Ubuntu 24.04.1 LTS) / x86_64  OK    OK    OK  UNNEEDED, same version is already published
palomino7Windows Server 2022 Datacenter / x64  OK    OK    OK    OK  UNNEEDED, same version is already published
merida1macOS 12.7.5 Monterey / x86_64  OK    TIMEOUT  skippedskipped
kjohnson1macOS 13.6.6 Ventura / arm64  OK    OK    OK    OK  UNNEEDED, same version is already published
kunpeng2Linux (openEuler 24.03 LTS) / aarch64  OK    OK    ERROR  
Package 2/14HostnameOS / ArchINSTALLBUILDCHECKBUILD BIN
CBEA 1.8.0  (landing page)
Quang Nguyen
git_last_commit: 661b58e
git_last_commit_date: 2025-04-15 12:47:30 -0400
nebbiolo1Linux (Ubuntu 24.04.1 LTS) / x86_64  OK    ERROR  skipped
palomino7Windows Server 2022 Datacenter / x64  OK    ERROR  skippedskipped
merida1macOS 12.7.5 Monterey / x86_64  OK    ERROR  skippedskipped
kjohnson1macOS 13.6.6 Ventura / arm64  OK    ERROR  skippedskipped
kunpeng2Linux (openEuler 24.03 LTS) / aarch64  OK    ERROR  skipped
Package 3/14HostnameOS / ArchINSTALLBUILDCHECKBUILD BIN
ExperimentSubset 1.18.1  (landing page)
Irzam Sarfraz
git_last_commit: 15c4278
git_last_commit_date: 2025-05-08 12:27:50 -0400
nebbiolo1Linux (Ubuntu 24.04.1 LTS) / x86_64  OK    OK    OK  UNNEEDED, same version is already published
palomino7Windows Server 2022 Datacenter / x64  OK    OK    OK    OK  UNNEEDED, same version is already published
merida1macOS 12.7.5 Monterey / x86_64  OK    OK    OK    OK  UNNEEDED, same version is already published
kjohnson1macOS 13.6.6 Ventura / arm64  OK    OK    OK    OK  UNNEEDED, same version is already published
kunpeng2Linux (openEuler 24.03 LTS) / aarch64  OK    OK    OK  
Package 4/14HostnameOS / ArchINSTALLBUILDCHECKBUILD BIN
HoloFoodR 1.2.0  (landing page)
Tuomas Borman
git_last_commit: 6af5c5b
git_last_commit_date: 2025-04-15 13:37:26 -0400
nebbiolo1Linux (Ubuntu 24.04.1 LTS) / x86_64  OK    OK    OK  UNNEEDED, same version is already published
palomino7Windows Server 2022 Datacenter / x64  OK    OK    OK    OK  UNNEEDED, same version is already published
merida1macOS 12.7.5 Monterey / x86_64  OK    OK    OK    OK  UNNEEDED, same version is already published
kjohnson1macOS 13.6.6 Ventura / arm64  OK    OK    OK    OK  UNNEEDED, same version is already published
kunpeng2Linux (openEuler 24.03 LTS) / aarch64  OK    OK    OK  
Package 5/14HostnameOS / ArchINSTALLBUILDCHECKBUILD BIN
iSEEtree 1.2.0  (landing page)
Giulio Benedetti
git_last_commit: 3ba9d47
git_last_commit_date: 2025-04-15 13:38:10 -0400
nebbiolo1Linux (Ubuntu 24.04.1 LTS) / x86_64  OK    OK    WARNINGS  UNNEEDED, same version is already published
palomino7Windows Server 2022 Datacenter / x64  OK    OK    WARNINGS    OK  NO, package depends on 'mia' which is only available as a source package that needs compilation
merida1macOS 12.7.5 Monterey / x86_64  OK    OK    WARNINGS    OK  UNNEEDED, same version is already published
kjohnson1macOS 13.6.6 Ventura / arm64  OK    OK    WARNINGS    OK  UNNEEDED, same version is already published
kunpeng2Linux (openEuler 24.03 LTS) / aarch64  OK    OK    WARNINGS  
Package 6/14HostnameOS / ArchINSTALLBUILDCHECKBUILD BIN
maaslin3 1.0.0  (landing page)
William Nickols
git_last_commit: 7584c46
git_last_commit_date: 2025-04-15 13:45:33 -0400
nebbiolo1Linux (Ubuntu 24.04.1 LTS) / x86_64  OK    OK    OK  UNNEEDED, same version is already published
palomino7Windows Server 2022 Datacenter / x64  OK    OK    OK    OK  UNNEEDED, same version is already published
merida1macOS 12.7.5 Monterey / x86_64  OK    OK    OK    OK  UNNEEDED, same version is already published
kjohnson1macOS 13.6.6 Ventura / arm64  OK    OK    OK    OK  UNNEEDED, same version is already published
kunpeng2Linux (openEuler 24.03 LTS) / aarch64  OK    OK    OK  
Package 7/14HostnameOS / ArchINSTALLBUILDCHECKBUILD BIN
MGnifyR 1.4.0  (landing page)
Tuomas Borman
git_last_commit: 51c5087
git_last_commit_date: 2025-04-15 13:31:44 -0400
nebbiolo1Linux (Ubuntu 24.04.1 LTS) / x86_64  OK    OK    OK  UNNEEDED, same version is already published
palomino7Windows Server 2022 Datacenter / x64  OK    OK    OK    OK  NO, package depends on 'mia' which is only available as a source package that needs compilation
merida1macOS 12.7.5 Monterey / x86_64  OK    OK    OK    OK  UNNEEDED, same version is already published
kjohnson1macOS 13.6.6 Ventura / arm64  OK    OK    OK    OK  UNNEEDED, same version is already published
kunpeng2Linux (openEuler 24.03 LTS) / aarch64  OK    OK    OK  
Package 8/14HostnameOS / ArchINSTALLBUILDCHECKBUILD BIN
mia 1.16.0  (landing page)
Tuomas Borman
git_last_commit: e5fe6cd
git_last_commit_date: 2025-04-15 12:23:39 -0400
nebbiolo1Linux (Ubuntu 24.04.1 LTS) / x86_64  OK    OK    OK  UNNEEDED, same version is already published
palomino7Windows Server 2022 Datacenter / x64  OK    OK    TIMEOUT    OK  
merida1macOS 12.7.5 Monterey / x86_64  OK    OK    TIMEOUT    OK  
kjohnson1macOS 13.6.6 Ventura / arm64  OK    OK    TIMEOUT    OK  
kunpeng2Linux (openEuler 24.03 LTS) / aarch64  OK    OK    TIMEOUT  
Package 9/14HostnameOS / ArchINSTALLBUILDCHECKBUILD BIN
miaDash 1.0.0  (landing page)
Giulio Benedetti
git_last_commit: a6f80ae
git_last_commit_date: 2025-04-15 13:50:18 -0400
nebbiolo1Linux (Ubuntu 24.04.1 LTS) / x86_64  OK    OK    OK  UNNEEDED, same version is already published
palomino7Windows Server 2022 Datacenter / x64  OK    OK    OK    OK  NO, package depends on 'mia' which is only available as a source package that needs compilation
merida1macOS 12.7.5 Monterey / x86_64  OK    OK    OK    OK  UNNEEDED, same version is already published
kjohnson1macOS 13.6.6 Ventura / arm64  OK    OK    OK    OK  UNNEEDED, same version is already published
kunpeng2Linux (openEuler 24.03 LTS) / aarch64  OK    OK    OK  
Package 10/14HostnameOS / ArchINSTALLBUILDCHECKBUILD BIN
miaSim 1.14.0  (landing page)
Yagmur Simsek
git_last_commit: da3162c
git_last_commit_date: 2025-04-15 12:41:24 -0400
nebbiolo1Linux (Ubuntu 24.04.1 LTS) / x86_64  OK    OK    OK  UNNEEDED, same version is already published
palomino7Windows Server 2022 Datacenter / x64  OK    OK    OK    OK  UNNEEDED, same version is already published
merida1macOS 12.7.5 Monterey / x86_64  OK    OK    OK    OK  UNNEEDED, same version is already published
kjohnson1macOS 13.6.6 Ventura / arm64  OK    OK    OK    OK  UNNEEDED, same version is already published
kunpeng2Linux (openEuler 24.03 LTS) / aarch64  OK    OK    OK  
Package 11/14HostnameOS / ArchINSTALLBUILDCHECKBUILD BIN
miaViz 1.16.0  (landing page)
Tuomas Borman
git_last_commit: b1ea3a8
git_last_commit_date: 2025-04-15 12:24:26 -0400
nebbiolo1Linux (Ubuntu 24.04.1 LTS) / x86_64  OK    OK    OK  UNNEEDED, same version is already published
palomino7Windows Server 2022 Datacenter / x64  OK    OK    OK    OK  NO, package depends on 'mia' which is only available as a source package that needs compilation
merida1macOS 12.7.5 Monterey / x86_64  OK    OK    OK    OK  UNNEEDED, same version is already published
kjohnson1macOS 13.6.6 Ventura / arm64  OK    OK    OK    OK  UNNEEDED, same version is already published
kunpeng2Linux (openEuler 24.03 LTS) / aarch64  OK    OK    OK  
Package 12/14HostnameOS / ArchINSTALLBUILDCHECKBUILD BIN
microSTASIS 1.8.0  (landing page)
Pedro Sánchez-Sánchez
git_last_commit: 9539f1c
git_last_commit_date: 2025-04-15 13:00:04 -0400
nebbiolo1Linux (Ubuntu 24.04.1 LTS) / x86_64  OK    OK    OK  UNNEEDED, same version is already published
palomino7Windows Server 2022 Datacenter / x64  OK    ERROR  skippedskipped
merida1macOS 12.7.5 Monterey / x86_64  OK    OK    OK    OK  UNNEEDED, same version is already published
kjohnson1macOS 13.6.6 Ventura / arm64  OK    OK    OK    OK  UNNEEDED, same version is already published
kunpeng2Linux (openEuler 24.03 LTS) / aarch64  OK    OK    TIMEOUT  
Package 13/14HostnameOS / ArchINSTALLBUILDCHECKBUILD BIN
PLSDAbatch 1.4.0  (landing page)
Yiwen (Eva) Wang
git_last_commit: 03944db
git_last_commit_date: 2025-04-15 13:25:54 -0400
nebbiolo1Linux (Ubuntu 24.04.1 LTS) / x86_64  OK    OK    OK  UNNEEDED, same version is already published
palomino7Windows Server 2022 Datacenter / x64  OK    OK    OK    OK  UNNEEDED, same version is already published
merida1macOS 12.7.5 Monterey / x86_64  OK    OK    OK    OK  UNNEEDED, same version is already published
kjohnson1macOS 13.6.6 Ventura / arm64  OK    OK    OK    OK  UNNEEDED, same version is already published
kunpeng2Linux (openEuler 24.03 LTS) / aarch64  OK    OK    OK  
Package 14/14HostnameOS / ArchINSTALLBUILDCHECKBUILD BIN
treeclimbR 1.4.0  (landing page)
Charlotte Soneson
git_last_commit: 86b3b2b
git_last_commit_date: 2025-04-15 13:30:29 -0400
nebbiolo1Linux (Ubuntu 24.04.1 LTS) / x86_64  OK    OK    OK  UNNEEDED, same version is already published
palomino7Windows Server 2022 Datacenter / x64  OK    OK    OK    OK  UNNEEDED, same version is already published
merida1macOS 12.7.5 Monterey / x86_64  OK    OK    OK    OK  UNNEEDED, same version is already published
kjohnson1macOS 13.6.6 Ventura / arm64  OK    OK    OK    OK  UNNEEDED, same version is already published
kunpeng2Linux (openEuler 24.03 LTS) / aarch64  OK    OK    OK