Package: TreeAndLeaf Version: 1.18.0 Command: /home/biocbuild/R/R/bin/R CMD check --install=check:TreeAndLeaf.install-out.txt --library=/home/biocbuild/R/R/site-library --no-vignettes --timings TreeAndLeaf_1.18.0.tar.gz StartedAt: 2025-01-31 11:13:49 -0000 (Fri, 31 Jan 2025) EndedAt: 2025-01-31 11:14:26 -0000 (Fri, 31 Jan 2025) EllapsedTime: 37.1 seconds RetCode: 0 Status: OK CheckDir: TreeAndLeaf.Rcheck Warnings: 0