Package: TransView Version: 1.50.1 Command: /home/biocbuild/R/R/bin/R CMD INSTALL TransView StartedAt: 2025-01-30 20:19:26 -0000 (Thu, 30 Jan 2025) EndedAt: 2025-01-30 20:19:47 -0000 (Thu, 30 Jan 2025) EllapsedTime: 21.1 seconds RetCode: 0 Status: OK