Package: TransView Version: 1.52.0 Maintainer: Julius Muller MaintainerEmail: ju-mu at alumni.ethz.ch git_url: https://git.bioconductor.org/packages/TransView git_branch: RELEASE_3_21 git_last_commit: 6404ded git_last_commit_date: 2025-04-15 10:16:08 -0400 (Tue, 15 Apr 2025)