Package: TrajectoryUtils Version: 1.14.0 Command: /home/biocbuild/R/R/bin/R CMD check --install=check:TrajectoryUtils.install-out.txt --library=/home/biocbuild/R/R/site-library --no-vignettes --timings TrajectoryUtils_1.14.0.tar.gz StartedAt: 2025-01-31 11:10:54 -0000 (Fri, 31 Jan 2025) EndedAt: 2025-01-31 11:14:14 -0000 (Fri, 31 Jan 2025) EllapsedTime: 199.2 seconds RetCode: 0 Status: OK CheckDir: TrajectoryUtils.Rcheck Warnings: 0