Package: TrajectoryUtils Version: 1.16.1 Command: /Library/Frameworks/R.framework/Resources/bin/R CMD INSTALL TrajectoryUtils StartedAt: 2025-07-21 15:42:25 -0400 (Mon, 21 Jul 2025) EndedAt: 2025-07-21 15:43:16 -0400 (Mon, 21 Jul 2025) EllapsedTime: 50.9 seconds RetCode: 0 Status: OK