Package: TrajectoryGeometry Version: 1.14.0 Command: /home/biocbuild/R/R/bin/R CMD check --install=check:TrajectoryGeometry.install-out.txt --library=/home/biocbuild/R/R/site-library --no-vignettes --timings TrajectoryGeometry_1.14.0.tar.gz StartedAt: 2025-01-31 11:10:14 -0000 (Fri, 31 Jan 2025) EndedAt: 2025-01-31 11:11:38 -0000 (Fri, 31 Jan 2025) EllapsedTime: 84.1 seconds RetCode: 0 Status: WARNINGS CheckDir: TrajectoryGeometry.Rcheck Warnings: 1