Package: TrajectoryGeometry Version: 1.14.0 Command: /Library/Frameworks/R.framework/Resources/bin/R CMD INSTALL TrajectoryGeometry StartedAt: 2024-11-19 15:24:49 -0500 (Tue, 19 Nov 2024) EndedAt: 2024-11-19 15:25:00 -0500 (Tue, 19 Nov 2024) EllapsedTime: 10.9 seconds RetCode: 0 Status: OK