Package: TrIdent Version: 1.2.0 Command: /Library/Frameworks/R.framework/Resources/bin/R CMD INSTALL TrIdent StartedAt: 2025-11-10 15:05:44 -0500 (Mon, 10 Nov 2025) EndedAt: 2025-11-10 15:05:53 -0500 (Mon, 10 Nov 2025) EllapsedTime: 8.9 seconds RetCode: 0 Status: OK