Package: TrIdent Version: 1.2.0 Command: /Library/Frameworks/R.framework/Resources/bin/R CMD build --keep-empty-dirs --no-resave-data TrIdent StartedAt: 2025-11-10 18:03:49 -0500 (Mon, 10 Nov 2025) EndedAt: 2025-11-10 18:04:09 -0500 (Mon, 10 Nov 2025) EllapsedTime: 20.2 seconds RetCode: 0 Status: OK PackageFile: TrIdent_1.2.0.tar.gz PackageFileSize: 1.758 MiB