Package: TrIdent Version: 1.2.0 Command: rm -rf TrIdent.buildbin-libdir && mkdir TrIdent.buildbin-libdir && /Users/biocbuild/BBS/utils/build-universal.sh TrIdent_1.2.0.tar.gz /Library/Frameworks/R.framework/Resources/bin/R TrIdent.buildbin-libdir StartedAt: 2025-11-10 23:40:10 -0500 (Mon, 10 Nov 2025) EndedAt: 2025-11-10 23:40:15 -0500 (Mon, 10 Nov 2025) EllapsedTime: 5.1 seconds RetCode: 0 Status: OK PackageFile: TrIdent_1.2.0.tgz PackageFileSize: 3.201 MiB