Package: ToxicoGx Version: 2.10.0 Command: /home/biocbuild/R/R/bin/R CMD INSTALL ToxicoGx StartedAt: 2025-01-30 20:52:43 -0000 (Thu, 30 Jan 2025) EndedAt: 2025-01-30 20:53:28 -0000 (Thu, 30 Jan 2025) EllapsedTime: 45.6 seconds RetCode: 0 Status: OK