Package: ToxicoGx Version: 2.12.0 Command: /Library/Frameworks/R.framework/Resources/bin/R CMD check --install=check:ToxicoGx.install-out.txt --library=/Library/Frameworks/R.framework/Resources/library --no-vignettes --timings ToxicoGx_2.12.0.tar.gz StartedAt: 2025-05-09 10:58:29 -0400 (Fri, 09 May 2025) EndedAt: 2025-05-09 11:08:13 -0400 (Fri, 09 May 2025) EllapsedTime: 583.6 seconds RetCode: 0 Status: OK CheckDir: ToxicoGx.Rcheck Warnings: 0