Package: ToxicoGx Version: 2.10.0 Command: /home/biocbuild/R/R/bin/R CMD check --install=check:ToxicoGx.install-out.txt --library=/home/biocbuild/R/R/site-library --no-vignettes --timings ToxicoGx_2.10.0.tar.gz StartedAt: 2024-11-20 13:21:59 -0000 (Wed, 20 Nov 2024) EndedAt: 2024-11-20 13:28:04 -0000 (Wed, 20 Nov 2024) EllapsedTime: 364.7 seconds RetCode: 0 Status: OK CheckDir: ToxicoGx.Rcheck Warnings: 0