Package: ToxicoGx Version: 2.10.0 Command: /Library/Frameworks/R.framework/Resources/bin/R CMD build --keep-empty-dirs --no-resave-data ToxicoGx StartedAt: 2025-01-31 09:35:34 -0500 (Fri, 31 Jan 2025) EndedAt: 2025-01-31 09:36:38 -0500 (Fri, 31 Jan 2025) EllapsedTime: 63.8 seconds RetCode: 0 Status: OK PackageFile: ToxicoGx_2.10.0.tar.gz PackageFileSize: 3.936 MiB