Package: ToxicoGx Version: 2.10.0 Command: rm -rf ToxicoGx.buildbin-libdir && mkdir ToxicoGx.buildbin-libdir && /Users/biocbuild/BBS/utils/build-universal.sh ToxicoGx_2.10.0.tar.gz /Library/Frameworks/R.framework/Resources/bin/R ToxicoGx.buildbin-libdir StartedAt: 2025-02-01 17:13:16 -0500 (Sat, 01 Feb 2025) EndedAt: 2025-02-01 17:14:03 -0500 (Sat, 01 Feb 2025) EllapsedTime: 47.2 seconds RetCode: 0 Status: OK PackageFile: ToxicoGx_2.10.0.tgz PackageFileSize: 4.418 MiB