Package: TnT Version: 1.28.0 Command: /home/biocbuild/R/R/bin/R CMD check --install=check:TnT.install-out.txt --library=/home/biocbuild/R/R/site-library --no-vignettes --timings TnT_1.28.0.tar.gz StartedAt: 2025-01-31 11:07:34 -0000 (Fri, 31 Jan 2025) EndedAt: 2025-01-31 11:09:22 -0000 (Fri, 31 Jan 2025) EllapsedTime: 108.1 seconds RetCode: 0 Status: OK CheckDir: TnT.Rcheck Warnings: 0