Package: TnT Version: 1.30.0 Command: rm -rf TnT.buildbin-libdir && mkdir TnT.buildbin-libdir && /Users/biocbuild/BBS/utils/build-universal.sh TnT_1.30.0.tar.gz /Library/Frameworks/R.framework/Resources/bin/R TnT.buildbin-libdir StartedAt: 2025-04-22 01:13:40 -0400 (Tue, 22 Apr 2025) EndedAt: 2025-04-22 01:14:01 -0400 (Tue, 22 Apr 2025) EllapsedTime: 21.1 seconds RetCode: 0 Status: OK PackageFile: TnT_1.30.0.tgz PackageFileSize: 530.8 KiB