Package: TitanCNA Version: 1.46.0 Command: /Library/Frameworks/R.framework/Resources/bin/R CMD INSTALL TitanCNA StartedAt: 2025-05-05 16:15:25 -0400 (Mon, 05 May 2025) EndedAt: 2025-05-05 16:16:57 -0400 (Mon, 05 May 2025) EllapsedTime: 91.7 seconds RetCode: 0 Status: OK