Package: TissueEnrich Version: 1.28.0 Command: rm -rf TissueEnrich.buildbin-libdir && mkdir TissueEnrich.buildbin-libdir && /Users/biocbuild/BBS/utils/build-universal.sh TissueEnrich_1.28.0.tar.gz /Library/Frameworks/R.framework/Resources/bin/R TissueEnrich.buildbin-libdir StartedAt: 2025-10-03 14:46:24 -0400 (Fri, 03 Oct 2025) EndedAt: 2025-10-03 14:47:44 -0400 (Fri, 03 Oct 2025) EllapsedTime: 80.2 seconds RetCode: 0 Status: OK PackageFile: TissueEnrich_1.28.0.tgz PackageFileSize: 3.628 MiB