Package: TileDBArray Version: 1.18.0 Command: /Library/Frameworks/R.framework/Resources/bin/R CMD INSTALL TileDBArray StartedAt: 2025-07-14 15:39:48 -0400 (Mon, 14 Jul 2025) EndedAt: 2025-07-14 15:40:13 -0400 (Mon, 14 Jul 2025) EllapsedTime: 24.6 seconds RetCode: 0 Status: OK