Package: TargetScore Version: 1.44.0 Command: F:\biocbuild\bbs-3.20-bioc\R\bin\R.exe CMD check --no-multiarch --install=check:TargetScore.install-out.txt --library=F:\biocbuild\bbs-3.20-bioc\R\library --no-vignettes --timings TargetScore_1.44.0.tar.gz StartedAt: 2025-01-31 07:08:51 -0500 (Fri, 31 Jan 2025) EndedAt: 2025-01-31 07:09:43 -0500 (Fri, 31 Jan 2025) EllapsedTime: 51.6 seconds RetCode: 0 Status: OK CheckDir: TargetScore.Rcheck Warnings: 0