Package: TargetScore Version: 1.46.0 Command: /Library/Frameworks/R.framework/Resources/bin/R CMD INSTALL TargetScore StartedAt: 2025-04-21 15:05:37 -0400 (Mon, 21 Apr 2025) EndedAt: 2025-04-21 15:06:01 -0400 (Mon, 21 Apr 2025) EllapsedTime: 24.5 seconds RetCode: 0 Status: OK