Package: TargetScore Version: 1.44.0 Command: /home/biocbuild/R/R/bin/R CMD check --install=check:TargetScore.install-out.txt --library=/home/biocbuild/R/R/site-library --no-vignettes --timings TargetScore_1.44.0.tar.gz StartedAt: 2024-11-20 13:09:55 -0000 (Wed, 20 Nov 2024) EndedAt: 2024-11-20 13:10:46 -0000 (Wed, 20 Nov 2024) EllapsedTime: 51.1 seconds RetCode: 0 Status: OK CheckDir: TargetScore.Rcheck Warnings: 0