Package: TargetDecoy Version: 1.12.0 Command: /home/biocbuild/R/R/bin/R CMD check --install=check:TargetDecoy.install-out.txt --library=/home/biocbuild/R/R/site-library --no-vignettes --timings TargetDecoy_1.12.0.tar.gz StartedAt: 2025-01-31 10:58:02 -0000 (Fri, 31 Jan 2025) EndedAt: 2025-01-31 10:59:23 -0000 (Fri, 31 Jan 2025) EllapsedTime: 81.1 seconds RetCode: 0 Status: OK CheckDir: TargetDecoy.Rcheck Warnings: 0