Package: TargetDecoy Version: 1.14.0 Command: chmod a+r TargetDecoy -R && E:\biocbuild\bbs-3.21-bioc\R\bin\R.exe CMD build --keep-empty-dirs --no-resave-data TargetDecoy StartedAt: 2025-08-14 22:39:26 -0400 (Thu, 14 Aug 2025) EndedAt: 2025-08-14 22:40:28 -0400 (Thu, 14 Aug 2025) EllapsedTime: 62.3 seconds RetCode: 0 Status: OK PackageFile: TargetDecoy_1.14.0.tar.gz PackageFileSize: 3.557 MiB