Package: TargetDecoy Version: 1.14.0 Command: rm -rf TargetDecoy.buildbin-libdir && mkdir TargetDecoy.buildbin-libdir && /Users/biocbuild/BBS/utils/build-universal.sh TargetDecoy_1.14.0.tar.gz /Library/Frameworks/R.framework/Resources/bin/R TargetDecoy.buildbin-libdir StartedAt: 2025-04-21 22:54:50 -0400 (Mon, 21 Apr 2025) EndedAt: 2025-04-21 22:54:54 -0400 (Mon, 21 Apr 2025) EllapsedTime: 4.1 seconds RetCode: 0 Status: OK PackageFile: TargetDecoy_1.14.0.tgz PackageFileSize: 3.888 MiB