Package: TVTB Version: 1.34.1 Command: /home/biocbuild/bbs-3.21-bioc/R/bin/R CMD INSTALL TVTB StartedAt: 2025-10-01 15:49:42 -0400 (Wed, 01 Oct 2025) EndedAt: 2025-10-01 15:50:41 -0400 (Wed, 01 Oct 2025) EllapsedTime: 58.0 seconds RetCode: 0 Status: OK