Package: TTMap Version: 1.30.0 Command: /Library/Frameworks/R.framework/Resources/bin/R CMD INSTALL TTMap StartedAt: 2025-04-21 15:21:25 -0400 (Mon, 21 Apr 2025) EndedAt: 2025-04-21 15:21:56 -0400 (Mon, 21 Apr 2025) EllapsedTime: 30.9 seconds RetCode: 0 Status: OK