Package: TSCAN Version: 1.44.0 Command: chmod a+r TSCAN -R && F:\biocbuild\bbs-3.20-bioc\R\bin\R.exe CMD build --keep-empty-dirs --no-resave-data TSCAN StartedAt: 2025-01-30 22:25:17 -0500 (Thu, 30 Jan 2025) EndedAt: 2025-01-30 22:26:16 -0500 (Thu, 30 Jan 2025) EllapsedTime: 59.2 seconds RetCode: 0 Status: OK PackageFile: TSCAN_1.44.0.tar.gz PackageFileSize: 2.678 MiB