Package: TSCAN Version: 1.46.0 Command: /Library/Frameworks/R.framework/Resources/bin/R CMD build --keep-empty-dirs --no-resave-data TSCAN StartedAt: 2025-05-01 23:07:32 -0400 (Thu, 01 May 2025) EndedAt: 2025-05-01 23:09:18 -0400 (Thu, 01 May 2025) EllapsedTime: 106.4 seconds RetCode: 0 Status: OK PackageFile: TSCAN_1.46.0.tar.gz PackageFileSize: 2.677 MiB