Package: TSCAN Version: 1.46.0 Command: /Library/Frameworks/R.framework/Resources/bin/R CMD build --keep-empty-dirs --no-resave-data TSCAN StartedAt: 2025-04-21 18:47:16 -0400 (Mon, 21 Apr 2025) EndedAt: 2025-04-21 18:48:09 -0400 (Mon, 21 Apr 2025) EllapsedTime: 53.8 seconds RetCode: 0 Status: OK PackageFile: TSCAN_1.46.0.tar.gz PackageFileSize: 2.677 MiB