Package: TSCAN Version: 1.46.0 Command: /home/biocbuild/R/R/bin/R CMD build --keep-empty-dirs --no-resave-data TSCAN StartedAt: 2025-05-06 05:12:38 -0000 (Tue, 06 May 2025) EndedAt: 2025-05-06 05:13:37 -0000 (Tue, 06 May 2025) EllapsedTime: 59.0 seconds RetCode: 0 Status: OK PackageFile: TSCAN_1.46.0.tar.gz PackageFileSize: 2.673 MiB