Package: TSCAN Version: 1.46.0 Command: rm -rf TSCAN.buildbin-libdir && mkdir TSCAN.buildbin-libdir && /Users/biocbuild/BBS/utils/build-universal.sh TSCAN_1.46.0.tar.gz /Library/Frameworks/R.framework/Resources/bin/R TSCAN.buildbin-libdir StartedAt: 2025-04-21 22:56:00 -0400 (Mon, 21 Apr 2025) EndedAt: 2025-04-21 22:56:12 -0400 (Mon, 21 Apr 2025) EllapsedTime: 12.3 seconds RetCode: 0 Status: OK PackageFile: TSCAN_1.46.0.tgz PackageFileSize: 2.762 MiB