Package: TSCAN Version: 1.46.0 Command: /Library/Frameworks/R.framework/Resources/bin/R CMD build --keep-empty-dirs --no-resave-data TSCAN StartedAt: 2025-05-06 10:26:52 -0400 (Tue, 06 May 2025) EndedAt: 2025-05-06 10:27:48 -0400 (Tue, 06 May 2025) EllapsedTime: 56.2 seconds RetCode: 0 Status: OK PackageFile: TSCAN_1.46.0.tar.gz PackageFileSize: 2.677 MiB