Package: TRONCO Version: 2.38.0 Command: /home/biocbuild/R/R/bin/R CMD check --install=check:TRONCO.install-out.txt --library=/home/biocbuild/R/R/site-library --no-vignettes --timings TRONCO_2.38.0.tar.gz StartedAt: 2025-01-31 11:18:47 -0000 (Fri, 31 Jan 2025) EndedAt: 2025-01-31 11:22:26 -0000 (Fri, 31 Jan 2025) EllapsedTime: 219.4 seconds RetCode: 0 Status: OK CheckDir: TRONCO.Rcheck Warnings: 0