Package: TRONCO Version: 2.40.0 Command: E:\biocbuild\bbs-3.21-bioc\R\bin\R.exe CMD INSTALL TRONCO StartedAt: 2025-08-14 16:00:35 -0400 (Thu, 14 Aug 2025) EndedAt: 2025-08-14 16:01:34 -0400 (Thu, 14 Aug 2025) EllapsedTime: 58.9 seconds RetCode: 0 Status: OK