Package: TRONCO Version: 2.40.1 Command: /home/biocbuild/bbs-3.21-bioc/R/bin/R CMD build --keep-empty-dirs --no-resave-data TRONCO StartedAt: 2025-10-08 20:22:39 -0400 (Wed, 08 Oct 2025) EndedAt: 2025-10-08 20:23:39 -0400 (Wed, 08 Oct 2025) EllapsedTime: 60.1 seconds RetCode: 0 Status: OK PackageFile: TRONCO_2.40.1.tar.gz PackageFileSize: 4.245 MiB