Package: TRESS Version: 1.14.0 Command: /Library/Frameworks/R.framework/Resources/bin/R CMD INSTALL TRESS StartedAt: 2025-05-05 17:04:17 -0400 (Mon, 05 May 2025) EndedAt: 2025-05-05 17:04:58 -0400 (Mon, 05 May 2025) EllapsedTime: 41.4 seconds RetCode: 0 Status: OK