Package: TPP2D Version: 1.26.0 Command: /home/biocbuild/bbs-3.22-bioc/R/bin/R CMD INSTALL TPP2D StartedAt: 2025-11-10 15:13:58 -0500 (Mon, 10 Nov 2025) EndedAt: 2025-11-10 15:14:08 -0500 (Mon, 10 Nov 2025) EllapsedTime: 10.2 seconds RetCode: 0 Status: OK