Package: TPP2D Version: 1.26.0 Command: /Library/Frameworks/R.framework/Resources/bin/R CMD INSTALL TPP2D StartedAt: 2025-11-09 15:05:15 -0500 (Sun, 09 Nov 2025) EndedAt: 2025-11-09 15:05:20 -0500 (Sun, 09 Nov 2025) EllapsedTime: 4.4 seconds RetCode: 0 Status: OK