Package: TPP Version: 3.36.0 Command: /Library/Frameworks/R.framework/Resources/bin/R CMD INSTALL TPP StartedAt: 2025-04-21 15:13:16 -0400 (Mon, 21 Apr 2025) EndedAt: 2025-04-21 15:13:44 -0400 (Mon, 21 Apr 2025) EllapsedTime: 28.1 seconds RetCode: 0 Status: OK