Package: TOP Version: 1.6.0 Command: /home/biocbuild/R/R/bin/R CMD check --install=check:TOP.install-out.txt --library=/home/biocbuild/R/R/site-library --no-vignettes --timings TOP_1.6.0.tar.gz StartedAt: 2025-01-31 11:08:19 -0000 (Fri, 31 Jan 2025) EndedAt: 2025-01-31 11:12:27 -0000 (Fri, 31 Jan 2025) EllapsedTime: 248.3 seconds RetCode: 0 Status: OK CheckDir: TOP.Rcheck Warnings: 0