Package: TOP Version: 1.8.0 Command: rm -rf TOP.buildbin-libdir && mkdir TOP.buildbin-libdir && /Users/biocbuild/BBS/utils/build-universal.sh TOP_1.8.0.tar.gz /Library/Frameworks/R.framework/Resources/bin/R TOP.buildbin-libdir StartedAt: 2025-05-23 14:05:17 -0400 (Fri, 23 May 2025) EndedAt: 2025-05-23 14:06:48 -0400 (Fri, 23 May 2025) EllapsedTime: 90.3 seconds RetCode: 0 Status: OK PackageFile: TOP_1.8.0.tgz PackageFileSize: 538.4 KiB