Package: TOAST Version: 1.20.0 Command: /home/biocbuild/R/R/bin/R CMD check --install=check:TOAST.install-out.txt --library=/home/biocbuild/R/R/site-library --no-vignettes --timings TOAST_1.20.0.tar.gz StartedAt: 2025-01-31 11:07:35 -0000 (Fri, 31 Jan 2025) EndedAt: 2025-01-31 11:12:56 -0000 (Fri, 31 Jan 2025) EllapsedTime: 321.4 seconds RetCode: 0 Status: OK CheckDir: TOAST.Rcheck Warnings: 0