Package: TOAST Version: 1.22.0 Command: /Library/Frameworks/R.framework/Resources/bin/R CMD build --keep-empty-dirs --no-resave-data TOAST StartedAt: 2025-04-21 18:44:36 -0400 (Mon, 21 Apr 2025) EndedAt: 2025-04-21 18:47:19 -0400 (Mon, 21 Apr 2025) EllapsedTime: 163.4 seconds RetCode: 0 Status: OK PackageFile: TOAST_1.22.0.tar.gz PackageFileSize: 3.623 MiB