Package: TOAST Version: 1.22.0 Command: rm -rf TOAST.buildbin-libdir && mkdir TOAST.buildbin-libdir && /Users/biocbuild/BBS/utils/build-universal.sh TOAST_1.22.0.tar.gz /Library/Frameworks/R.framework/Resources/bin/R TOAST.buildbin-libdir StartedAt: 2025-04-22 01:13:40 -0400 (Tue, 22 Apr 2025) EndedAt: 2025-04-22 01:14:18 -0400 (Tue, 22 Apr 2025) EllapsedTime: 37.2 seconds RetCode: 0 Status: OK PackageFile: TOAST_1.22.0.tgz PackageFileSize: 3.763 MiB