Package: TOAST Version: 1.22.0 Command: /Library/Frameworks/R.framework/Resources/bin/R CMD check --install=check:TOAST.install-out.txt --library=/Library/Frameworks/R.framework/Resources/library --no-vignettes --timings TOAST_1.22.0.tar.gz StartedAt: 2025-04-21 22:07:59 -0400 (Mon, 21 Apr 2025) EndedAt: 2025-04-21 22:09:49 -0400 (Mon, 21 Apr 2025) EllapsedTime: 109.4 seconds RetCode: 0 Status: OK CheckDir: TOAST.Rcheck Warnings: 0