Package: TOAST Version: 1.22.0 Command: /Library/Frameworks/R.framework/Resources/bin/R CMD build --keep-empty-dirs --no-resave-data TOAST StartedAt: 2025-04-21 17:53:03 -0400 (Mon, 21 Apr 2025) EndedAt: 2025-04-21 17:54:13 -0400 (Mon, 21 Apr 2025) EllapsedTime: 69.8 seconds RetCode: 0 Status: OK PackageFile: TOAST_1.22.0.tar.gz PackageFileSize: 3.625 MiB